BEGIN:VCALENDAR
VERSION:2.0
PRODID:-//Teaching Family Homes - ECPv6.15.18//NONSGML v1.0//EN
CALSCALE:GREGORIAN
METHOD:PUBLISH
X-ORIGINAL-URL:https://www.teachingfamilyhomes.org
X-WR-CALDESC:Events for Teaching Family Homes
REFRESH-INTERVAL;VALUE=DURATION:PT1H
X-Robots-Tag:noindex
X-PUBLISHED-TTL:PT1H
BEGIN:VTIMEZONE
TZID:America/Detroit
BEGIN:DAYLIGHT
TZOFFSETFROM:-0500
TZOFFSETTO:-0400
TZNAME:EDT
DTSTART:20250309T070000
END:DAYLIGHT
BEGIN:STANDARD
TZOFFSETFROM:-0400
TZOFFSETTO:-0500
TZNAME:EST
DTSTART:20251102T060000
END:STANDARD
BEGIN:DAYLIGHT
TZOFFSETFROM:-0500
TZOFFSETTO:-0400
TZNAME:EDT
DTSTART:20260308T070000
END:DAYLIGHT
BEGIN:STANDARD
TZOFFSETFROM:-0400
TZOFFSETTO:-0500
TZNAME:EST
DTSTART:20261101T060000
END:STANDARD
BEGIN:DAYLIGHT
TZOFFSETFROM:-0500
TZOFFSETTO:-0400
TZNAME:EDT
DTSTART:20270314T070000
END:DAYLIGHT
BEGIN:STANDARD
TZOFFSETFROM:-0400
TZOFFSETTO:-0500
TZNAME:EST
DTSTART:20271107T060000
END:STANDARD
END:VTIMEZONE
BEGIN:VEVENT
DTSTART;TZID=America/Detroit:20260312T130000
DTEND;TZID=America/Detroit:20260312T150000
DTSTAMP:20260421T064028
CREATED:20251111T192216Z
LAST-MODIFIED:20251120T182316Z
UID:337-1773320400-1773327600@www.teachingfamilyhomes.org
SUMMARY:Green Day
DESCRIPTION:Green apple juice\, green eggs\, and other green food items and dress to celebrate the coming of spring.\n\n\nAs a Teaching Family Homes community day\, only the following groups are permitted: TFH Staff\, Staff Families\, youth and youth families\, and caseworkers.\nThis is not a public event.\n\n\nTFH Administrative Building -1:00pm – 3:00pm
URL:https://www.teachingfamilyhomes.org/event/green-day/
LOCATION:Administrative Building\, 1000 Silver Creek Road\, Marquette\, MI\, 49855\, United States
ORGANIZER;CN="Teaching Family Homes":MAILTO:info@tfhomes.org
END:VEVENT
END:VCALENDAR