BEGIN:VCALENDAR
VERSION:2.0
PRODID:-//Teaching Family Homes - ECPv6.15.18//NONSGML v1.0//EN
CALSCALE:GREGORIAN
METHOD:PUBLISH
X-WR-CALNAME:Teaching Family Homes
X-ORIGINAL-URL:https://www.teachingfamilyhomes.org
X-WR-CALDESC:Events for Teaching Family Homes
REFRESH-INTERVAL;VALUE=DURATION:PT1H
X-Robots-Tag:noindex
X-PUBLISHED-TTL:PT1H
BEGIN:VTIMEZONE
TZID:America/Detroit
BEGIN:DAYLIGHT
TZOFFSETFROM:-0500
TZOFFSETTO:-0400
TZNAME:EDT
DTSTART:20250309T070000
END:DAYLIGHT
BEGIN:STANDARD
TZOFFSETFROM:-0400
TZOFFSETTO:-0500
TZNAME:EST
DTSTART:20251102T060000
END:STANDARD
BEGIN:DAYLIGHT
TZOFFSETFROM:-0500
TZOFFSETTO:-0400
TZNAME:EDT
DTSTART:20260308T070000
END:DAYLIGHT
BEGIN:STANDARD
TZOFFSETFROM:-0400
TZOFFSETTO:-0500
TZNAME:EST
DTSTART:20261101T060000
END:STANDARD
BEGIN:DAYLIGHT
TZOFFSETFROM:-0500
TZOFFSETTO:-0400
TZNAME:EDT
DTSTART:20270314T070000
END:DAYLIGHT
BEGIN:STANDARD
TZOFFSETFROM:-0400
TZOFFSETTO:-0500
TZNAME:EST
DTSTART:20271107T060000
END:STANDARD
END:VTIMEZONE
BEGIN:VEVENT
DTSTART;TZID=America/Detroit:20260514T080000
DTEND;TZID=America/Detroit:20260514T083000
DTSTAMP:20260421T081311
CREATED:20251111T201543Z
LAST-MODIFIED:20251120T182459Z
UID:339-1778745600-1778747400@www.teachingfamilyhomes.org
SUMMARY:2026 Youth Planned Community Day
DESCRIPTION:The youth decide this one! The activity and timeline will be announced when the itinerary is determined on 5/14/2026. Excited for this one! \nAs a Teaching Family Homes community day\, only the following groups are permitted: TFH Staff\, Staff Families\, youth and youth families\, and caseworkers.\nThis is not a public event.
URL:https://www.teachingfamilyhomes.org/event/2026-youth-planned-community-day/
LOCATION:MI
ORGANIZER;CN="Teaching Family Homes":MAILTO:info@tfhomes.org
END:VEVENT
BEGIN:VEVENT
DTSTART;TZID=America/Detroit:20260612T080000
DTEND;TZID=America/Detroit:20260612T170000
DTSTAMP:20260421T081311
CREATED:20251111T201856Z
LAST-MODIFIED:20251120T182510Z
UID:341-1781251200-1781283600@www.teachingfamilyhomes.org
SUMMARY:Start Of The Summer Grill Out
DESCRIPTION:Start of Summer Food and Fun. \nAs a Teaching Family Homes community day\, only the following groups are permitted: TFH Staff\, Staff Families\, youth and youth families\, and caseworkers.\nThis is not a public event.\nTFH Pavilion at the Administrative Building 12:00 PM -1:00 PM
URL:https://www.teachingfamilyhomes.org/event/start-of-the-summer-grill-out/
LOCATION:Administrative Building\, 1000 Silver Creek Road\, Marquette\, MI\, 49855\, United States
ORGANIZER;CN="Teaching Family Homes":MAILTO:info@tfhomes.org
END:VEVENT
BEGIN:VEVENT
DTSTART;TZID=America/Detroit:20260715T110000
DTEND;TZID=America/Detroit:20260715T150000
DTSTAMP:20260421T081311
CREATED:20251111T202441Z
LAST-MODIFIED:20251120T182523Z
UID:342-1784113200-1784127600@www.teachingfamilyhomes.org
SUMMARY:Teaching Family Homes Beach Day!
DESCRIPTION:Cookout and Beach Day!\n\n\nAs a Teaching Family Homes community day\, only the following groups are permitted: TFH Staff\, Staff Families\, youth and youth families\, and caseworkers.\nThis is not a public event.\n\n\nClark Lambros Beach Park 11:00 PM – 3:00 PM
URL:https://www.teachingfamilyhomes.org/event/teaching-family-homes-beach-day/
LOCATION:The Beach
ORGANIZER;CN="Teaching Family Homes":MAILTO:info@tfhomes.org
END:VEVENT
BEGIN:VEVENT
DTSTART;TZID=America/Detroit:20260827T120000
DTEND;TZID=America/Detroit:20260827T130000
DTSTAMP:20260421T081311
CREATED:20251111T202708Z
LAST-MODIFIED:20251120T182534Z
UID:345-1787832000-1787835600@www.teachingfamilyhomes.org
SUMMARY:End of Summer Grill Out
DESCRIPTION:End of Summer Food and Fun!\n\n\nAs a Teaching Family Homes community day\, only the following groups are permitted: TFH Staff\, Staff Families\, youth and youth families\, and caseworkers.\nThis is not a public event.\n\n\nTFH Pavilion at the Administrative Building 12:00 PM -1:00 PM
URL:https://www.teachingfamilyhomes.org/event/end-of-summer-grill-out/
LOCATION:Administrative Building\, 1000 Silver Creek Road\, Marquette\, MI\, 49855\, United States
ORGANIZER;CN="Teaching Family Homes":MAILTO:info@tfhomes.org
END:VEVENT
BEGIN:VEVENT
DTSTART;TZID=America/Detroit:20260910T120000
DTEND;TZID=America/Detroit:20260910T140000
DTSTAMP:20260421T081311
CREATED:20251111T203118Z
LAST-MODIFIED:20251120T182601Z
UID:346-1789041600-1789048800@www.teachingfamilyhomes.org
SUMMARY:TFH Spirit Day
DESCRIPTION:Dress up as your favorite sports team\, band\, or just your favorite shirt. Local trivia to kick up the event.\n\n\nAs a Teaching Family Homes community day\, only the following groups are permitted: TFH Staff\, Staff Families\, youth and youth families\, and caseworkers.\nThis is not a public event.\n\n\nTFH Pavilion at the Administrative Building  12:00 PM – 2:00 PM
URL:https://www.teachingfamilyhomes.org/event/tfh-spirit-day/
LOCATION:Administrative Building\, 1000 Silver Creek Road\, Marquette\, MI\, 49855\, United States
ORGANIZER;CN="Teaching Family Homes":MAILTO:info@tfhomes.org
END:VEVENT
END:VCALENDAR