BEGIN:VCALENDAR
VERSION:2.0
PRODID:-//Teaching Family Homes - ECPv6.15.18//NONSGML v1.0//EN
CALSCALE:GREGORIAN
METHOD:PUBLISH
X-WR-CALNAME:Teaching Family Homes
X-ORIGINAL-URL:https://www.teachingfamilyhomes.org
X-WR-CALDESC:Events for Teaching Family Homes
REFRESH-INTERVAL;VALUE=DURATION:PT1H
X-Robots-Tag:noindex
X-PUBLISHED-TTL:PT1H
BEGIN:VTIMEZONE
TZID:America/Detroit
BEGIN:DAYLIGHT
TZOFFSETFROM:-0500
TZOFFSETTO:-0400
TZNAME:EDT
DTSTART:20240310T070000
END:DAYLIGHT
BEGIN:STANDARD
TZOFFSETFROM:-0400
TZOFFSETTO:-0500
TZNAME:EST
DTSTART:20241103T060000
END:STANDARD
BEGIN:DAYLIGHT
TZOFFSETFROM:-0500
TZOFFSETTO:-0400
TZNAME:EDT
DTSTART:20250309T070000
END:DAYLIGHT
BEGIN:STANDARD
TZOFFSETFROM:-0400
TZOFFSETTO:-0500
TZNAME:EST
DTSTART:20251102T060000
END:STANDARD
BEGIN:DAYLIGHT
TZOFFSETFROM:-0500
TZOFFSETTO:-0400
TZNAME:EDT
DTSTART:20260308T070000
END:DAYLIGHT
BEGIN:STANDARD
TZOFFSETFROM:-0400
TZOFFSETTO:-0500
TZNAME:EST
DTSTART:20261101T060000
END:STANDARD
BEGIN:DAYLIGHT
TZOFFSETFROM:-0500
TZOFFSETTO:-0400
TZNAME:EDT
DTSTART:20270314T070000
END:DAYLIGHT
BEGIN:STANDARD
TZOFFSETFROM:-0400
TZOFFSETTO:-0500
TZNAME:EST
DTSTART:20271107T060000
END:STANDARD
END:VTIMEZONE
BEGIN:VEVENT
DTSTART;TZID=America/Detroit:20260430T080000
DTEND;TZID=America/Detroit:20260430T170000
DTSTAMP:20260421T100228
CREATED:20251111T192352Z
LAST-MODIFIED:20251120T182334Z
UID:338-1777536000-1777568400@www.teachingfamilyhomes.org
SUMMARY:Spring Seeding
DESCRIPTION:Youth and Community members can bring seed starts to plant. If weather poses an issue\, can be moved indoors. \nAs a Teaching Family Homes community day\, only the following groups are permitted: TFH Staff\, Staff Families\, youth and youth families\, and caseworkers.\nThis is not a public event.\nTFH Pavilion at the Administrative Building – 1:00pm – 2:00pm
URL:https://www.teachingfamilyhomes.org/event/spring-seeding/
LOCATION:Administrative Building\, 1000 Silver Creek Road\, Marquette\, MI\, 49855\, United States
ORGANIZER;CN="Teaching Family Homes":MAILTO:info@tfhomes.org
END:VEVENT
BEGIN:VEVENT
DTSTART;TZID=America/Detroit:20260312T130000
DTEND;TZID=America/Detroit:20260312T150000
DTSTAMP:20260421T100228
CREATED:20251111T192216Z
LAST-MODIFIED:20251120T182316Z
UID:337-1773320400-1773327600@www.teachingfamilyhomes.org
SUMMARY:Green Day
DESCRIPTION:Green apple juice\, green eggs\, and other green food items and dress to celebrate the coming of spring.\n\n\nAs a Teaching Family Homes community day\, only the following groups are permitted: TFH Staff\, Staff Families\, youth and youth families\, and caseworkers.\nThis is not a public event.\n\n\nTFH Administrative Building -1:00pm – 3:00pm
URL:https://www.teachingfamilyhomes.org/event/green-day/
LOCATION:Administrative Building\, 1000 Silver Creek Road\, Marquette\, MI\, 49855\, United States
ORGANIZER;CN="Teaching Family Homes":MAILTO:info@tfhomes.org
END:VEVENT
BEGIN:VEVENT
DTSTART;TZID=America/Detroit:20260212T130000
DTEND;TZID=America/Detroit:20260212T150000
DTSTAMP:20260421T100228
CREATED:20251111T191934Z
LAST-MODIFIED:20251120T181306Z
UID:336-1770901200-1770908400@www.teachingfamilyhomes.org
SUMMARY:Valentines Candy Boxes
DESCRIPTION:Youth Created Valentines day boxes that can have candy placed inside them. \nAs a Teaching Family Homes community day\, only the following groups are permitted: TFH Staff\, Staff Families\, youth and youth families\, and caseworkers.\nThis is not a public event.\nTFH Administrative Building – 1:00p-3:00p
URL:https://www.teachingfamilyhomes.org/event/valentines-candy-boxes/
LOCATION:Administrative Building\, 1000 Silver Creek Road\, Marquette\, MI\, 49855\, United States
ORGANIZER;CN="Teaching Family Homes":MAILTO:info@tfhomes.org
END:VEVENT
BEGIN:VEVENT
DTSTART;TZID=America/Detroit:20260115T130000
DTEND;TZID=America/Detroit:20260115T150000
DTSTAMP:20260421T100228
CREATED:20251111T191804Z
LAST-MODIFIED:20251120T182848Z
UID:335-1768482000-1768489200@www.teachingfamilyhomes.org
SUMMARY:Hot Cocoa Bar - Snow Angels and Snowmen
DESCRIPTION:Hot Cocoa Bar with snacks\, and if the snow is right\, Snow statue creation. Featuring A Youth Bake Sale!!!\n\n\nAs a Teaching Family Homes community day\, only the following groups are permitted: TFH Staff\, Staff Families\, youth and youth families\, and caseworkers.\nThis is not a public event.\n\n\nTFH Administrative Building and Campus 1:00-3:00
URL:https://www.teachingfamilyhomes.org/event/hot-cocoa-bar-snow-angels-and-snowmen/
LOCATION:Administrative Building\, 1000 Silver Creek Road\, Marquette\, MI\, 49855\, United States
ORGANIZER;CN="Teaching Family Homes":MAILTO:info@tfhomes.org
END:VEVENT
BEGIN:VEVENT
DTSTART;TZID=America/Detroit:20251218T150000
DTEND;TZID=America/Detroit:20251218T170000
DTSTAMP:20260421T100228
CREATED:20251111T184230Z
LAST-MODIFIED:20251120T182806Z
UID:334-1766070000-1766077200@www.teachingfamilyhomes.org
SUMMARY:Winter Holiday Extravaganza at Teaching Family Homes
DESCRIPTION:A traditional winter holiday meal and small festivities.\n\n\nAs a Teaching Family Homes community day\, only the following groups are permitted: TFH Staff\, Staff Families\, youth and youth families\, and caseworkers.\nThis is not a public event.\n\n\nTFH Administrative Building – 3:00 – 5:00PM
URL:https://www.teachingfamilyhomes.org/event/winter-holiday-extravaganza-at-teaching-family-homes/
LOCATION:Administrative Building\, 1000 Silver Creek Road\, Marquette\, MI\, 49855\, United States
ORGANIZER;CN="Teaching Family Homes":MAILTO:info@tfhomes.org
END:VEVENT
BEGIN:VEVENT
DTSTART;TZID=America/Detroit:20251125T150000
DTEND;TZID=America/Detroit:20251125T170000
DTSTAMP:20260421T100228
CREATED:20251111T183729Z
LAST-MODIFIED:20251120T180338Z
UID:331-1764082800-1764090000@www.teachingfamilyhomes.org
SUMMARY:Thanksgiving Meal at Teaching Family Homes
DESCRIPTION:A Traditional Thanksgiving Meal\n\nAs a Teaching Family Homes community day\, only the following groups are permitted: TFH Staff\, Staff Families\, youth and youth families\, and caseworkers.\nThis is not a public event.\n\nTFH Administrative Building – 3:00 – 5:00pm
URL:https://www.teachingfamilyhomes.org/event/thanksgiving-meal-at-teaching-family-homes/
LOCATION:Administrative Building\, 1000 Silver Creek Road\, Marquette\, MI\, 49855\, United States
CATEGORIES:Community Days
ATTACH;FMTTYPE=image/png:https://www.teachingfamilyhomes.org/wp-content/uploads/2025/11/Thanksgiving-Meal-e1762886215751.png
ORGANIZER;CN="Teaching Family Homes":MAILTO:info@tfhomes.org
END:VEVENT
BEGIN:VEVENT
DTSTART;TZID=America/Detroit:20251023T160000
DTEND;TZID=America/Detroit:20251023T180000
DTSTAMP:20260421T100228
CREATED:20251014T141057Z
LAST-MODIFIED:20251014T142846Z
UID:315-1761235200-1761242400@www.teachingfamilyhomes.org
SUMMARY:Trunk Or Treat With Teaching Family Homes - Oct 23rd
DESCRIPTION:Marquette\, MI – \nJoin us for a spooktacular\, fun-filled trunk or treat. Teaching Family Homes is hosting a trunk or treat at our administrative building on October 23rd from 4:00PM – 6:00PM. \nA trunk or treat is all about sharing the spirit of Halloween. That and sharing treats! Guests are encouraged to bring treats to hand out of their trunks if they’d like. \nSee below for all the details:
URL:https://www.teachingfamilyhomes.org/event/trunk-or-treat-with-teaching-family-homes-oct-23rd/
LOCATION:Administrative Building\, 1000 Silver Creek Road\, Marquette\, MI\, 49855\, United States
ATTACH;FMTTYPE=image/jpeg:https://www.teachingfamilyhomes.org/wp-content/uploads/2025/10/Trick-or-trunk-TFH-Teaching-Family-Homes.jpg
ORGANIZER;CN="Teaching Family Homes":MAILTO:info@tfhomes.org
END:VEVENT
BEGIN:VEVENT
DTSTART;TZID=America/Detroit:20250818T120000
DTEND;TZID=America/Detroit:20250822T200000
DTSTAMP:20260421T100228
CREATED:20250829T161818Z
LAST-MODIFIED:20250829T161819Z
UID:292-1755518400-1755892800@www.teachingfamilyhomes.org
SUMMARY:Lakes Area Adventure Week | Aug. 18th-22nd
DESCRIPTION:Adventure week is a time of year all of our resident youth look forward to. With adventures from Mackinaw Island to the Mystery Spot and more\, we love to get the kids out into the spots we all love around the U.P.
URL:https://www.teachingfamilyhomes.org/event/lakes-area-adventure-week-aug-18th-22nd/
LOCATION:Lakes Area Group Home\, 7820 St. Hwy M123\, Newberry\, MI\, 49868\, United States
ATTACH;FMTTYPE=image/webp:https://www.teachingfamilyhomes.org/wp-content/uploads/2025/08/TFH-PHOTOS18.webp
ORGANIZER;CN="Teaching Family Homes":MAILTO:info@tfhomes.org
END:VEVENT
END:VCALENDAR